BEGIN:VCALENDAR
VERSION:2.0
PRODID:-//CERN//INDICO//EN
BEGIN:VEVENT
SUMMARY:Seminář řešitelů a MetaCentra 2026
DTSTART:20260414T100000Z
DTEND:20260416T100000Z
DTSTAMP:20260421T195200Z
UID:indico-event-59@events.cesnet.cz
CONTACT:akce@cesnet.cz
DESCRIPTION:Seminář řešitelů je klíčové interní setkání zaměst
 nanců – prostor pro sdílení aktuálních aktivit jednotlivých odděl
 ení\, společnou diskusi i odborná jednání v sekcích. Na program nava
 zuje Seminář MetaCentra\, zaměřený na další rozvoj a aktuální té
 mata.\nRegistrace je závazná. Pokud se nemůžete zúčastnit\, prosíme
  o včasné odhlášení\, abychom mohli kapacity efektivně využít.\n\n
 https://events.cesnet.cz/event/59/
LOCATION:Parkhotel Plzeň
URL:https://events.cesnet.cz/event/59/
END:VEVENT
END:VCALENDAR
