BEGIN:VCALENDAR
VERSION:2.0
PRODID:-//CERN//INDICO//EN
BEGIN:VEVENT
SUMMARY:Online školení na monitorovací a bezpečnostní nástroje exaFS
  a FTAS
DTSTART:20260429T070000Z
DTEND:20260429T110000Z
DTSTAMP:20260421T195200Z
UID:indico-event-62@events.cesnet.cz
CONTACT:akce@cesnet.cz
DESCRIPTION:Seminár je již plně obsazen - 16.4.2026\nSrdečně Vás zve
 me na online školení o bezpečnostních a monitorovacích nástrojích C
 ESNET exaFS a FTAS. Zaměříme se především na sdílení základních 
 znalostí o tom\, jak chránit vaši organizaci připojenou k síti CESNET
  pomocí vhodných nástrojů.Školení je vhodné pro bezpečnostní mana
 žery\, správce sítí a členy bezpečnostních týmů ze všech typů o
 rganizace – nemocnice\, veřejná správa i akademický a vědecký sekt
 or\, které jsou do CESNETu připojeny.V případě jakýchkoli dotazů n
 ás neváhejte kontaktovat. Těšíme se na Vás!\nPro úspěšné absolvo
 vání školení je potřeba mít federovanou identitu eduID nebo identitu
  MojeID propojenou s Vaší pracovní e-mailovou adresou.\nRegistrací na 
 tuto akci potvrzujete\, že:\n\n\nberete na vědomí\, že na této akci b
 udou pořizovány audiovizuální záznamy\, které budou dále využív
 ány pro účely propagace této akce\, a to v hmotné či elektronické p
 odobě\, včetně webových a sociálních stránek sdružení CESNET\,\n\
 n\nVám byly poskytnuty veškeré potřebné informace o zpracování osob
 ních údajů.\n\n\n\nhttps://events.cesnet.cz/event/62/
LOCATION:Online
URL:https://events.cesnet.cz/event/62/
END:VEVENT
END:VCALENDAR
